BEGIN:VCALENDAR
VERSION:2.0
PRODID:-//eventon.com NONSGML v1.0//EN
CALSCALE:GREGORIAN
METHOD:PUBLISH
BEGIN:VEVENT
UID:69e5cd00f3da8
DTSTAMP:20260420T065144Z
DTSTART:20240511T120000Z
DTEND:20240511T123000Z
LOCATION:
SUMMARY:So „denkt“ eine autonome Fähre
DESCRIPTION:Im Rahmen der Digitalen Woche Kiel So „denkt“ eine autonome
  FähreVortragenden: Prof. Dr. Olaf Landsiedel (CAU) sowie David Kohn (FH K
 iel) Mithilfe zahlreicher Sensoren\,  Kameras und IT-Systemen erkennt und a
 nalysiert ein (teil-)autonomes Schiff seine Umwelt. Forschende der CAPTN In
 itiative erklären die Systeme und deren Kontrollmechanismen am Beispiel de
 s Forschungsschiffes MS[..]\nhttps://captn.sh/events/so-denkt-einen-autonom
 e-faehre/
URL:https://captn.sh/events/so-denkt-einen-autonome-faehre/
END:VEVENT
END:VCALENDAR