BEGIN:VCALENDAR
VERSION:2.0
PRODID:-//eventon.com NONSGML v1.0//EN
CALSCALE:GREGORIAN
METHOD:PUBLISH
BEGIN:VEVENT
UID:69e4ef20a1aaa
DTSTAMP:20260419T150504Z
DTSTART:20250701T170000Z
DTEND:20250701T200000Z
LOCATION:
SUMMARY:Gelehrte Gläser - Denkanstöße zum Anstoßen
DESCRIPTION:17 Uhr: Deep Dive - Computing in maritime research I Oona Colli
 ander (HSFL) Dieser Vortrag findet in englischer Sprache statt\nhttps://cap
 tn.sh/events/geleerte-glaeser-denkanstoesse-zum-anstossen/
URL:https://captn.sh/events/geleerte-glaeser-denkanstoesse-zum-anstossen/
END:VEVENT
END:VCALENDAR